BEGIN:VCALENDAR
VERSION:2.0
PRODID:SchoolNow
CALSCALE:GREGORIAN
BEGIN:VEVENT
UID:9a5b2532-0319-11ef-a860-0a58a9feac02
DTSTAMP:20240425T153637Z
SUMMARY:Professional Development Day (K-8) - School Closed (6-26-24)
URL;VALUE=URI:https://www.liverpool.k12.ny.us/calendar/5856134/professional
 -development-day-k-8-school-closed-6-26-24
DTSTART;VALUE=DATE:20240626
DTEND;VALUE=DATE:20240627
END:VEVENT
END:VCALENDAR
