BEGIN:VCALENDAR
VERSION:2.0
PRODID:SchoolNow
CALSCALE:GREGORIAN
BEGIN:VEVENT
UID:6f96eb9e-03f3-11ef-90e7-0e9627f74391
DTSTAMP:20240426T173555Z
SUMMARY:Voter Registration Day (5-14-24)
URL;VALUE=URI:https://www.liverpool.k12.ny.us/calendar/5863321/voter-regist
 ration-day-5-14-24
DTSTART:20240514T130000Z
DTEND:20240514T200000Z
END:VEVENT
END:VCALENDAR
