BEGIN:VCALENDAR
VERSION:2.0
PRODID:SchoolNow
CALSCALE:GREGORIAN
BEGIN:VEVENT
UID:45a213c0-2371-11ef-8dfd-0e937530400f
DTSTAMP:20240605T192447Z
SUMMARY:Board of Education Workshop
LOCATION:District Office
URL;VALUE=URI:https://www.liverpool.k12.ny.us/calendar/6081624/board-of-edu
 cation-workshop
DTSTART:20240610T210000Z
DTEND:20240610T220000Z
END:VEVENT
END:VCALENDAR
