BEGIN:VCALENDAR
VERSION:2.0
PRODID:SchoolNow
CALSCALE:GREGORIAN
BEGIN:VEVENT
UID:cdf58dca-33d8-11ef-b717-0252974d257d
DTSTAMP:20240626T162613Z
SUMMARY:BOE Reorganizational Meeting & Public Hearings
URL;VALUE=URI:https://www.liverpool.k12.ny.us/calendar/6171036/boe-reorgani
 zational-meeting-public-hearings
DTSTART:20240701T220000Z
DTEND:20240702T020000Z
END:VEVENT
END:VCALENDAR
