BEGIN:VCALENDAR
VERSION:2.0
PRODID:SchoolNow
CALSCALE:GREGORIAN
BEGIN:VEVENT
UID:ca938d74-3966-11ef-8543-0affe900a1ff
DTSTAMP:20240703T180511Z
SUMMARY:Superintendent's Conference Day - Students Do Not Report (9-3-24)
URL;VALUE=URI:https://www.liverpool.k12.ny.us/calendar/6207783/superintende
 nts-conference-day-students-do-not-report-9-3-24
DTSTART:20240903T180400Z
DTEND:20240903T190400Z
END:VEVENT
END:VCALENDAR
