BEGIN:VCALENDAR
VERSION:2.0
PRODID:SchoolNow
CALSCALE:GREGORIAN
BEGIN:VEVENT
UID:03223b4a-3967-11ef-92df-0affe900a1ff
DTSTAMP:20240703T180646Z
SUMMARY:Superintendent's Conference Day - Students Do Not Report (9-4-24)
URL;VALUE=URI:https://www.liverpool.k12.ny.us/calendar/6207798/superintende
 nts-conference-day-students-do-not-report-9-4-24
DTSTART:20240904T180600Z
DTEND:20240904T190600Z
END:VEVENT
END:VCALENDAR
