BEGIN:VCALENDAR
VERSION:2.0
PRODID:SchoolNow
CALSCALE:GREGORIAN
BEGIN:VEVENT
UID:3feff79c-3967-11ef-ba8a-0a58a9feac02
DTSTAMP:20240703T180828Z
SUMMARY:First Day of School (9-5-24)
URL;VALUE=URI:https://www.liverpool.k12.ny.us/calendar/6207817/first-day-of
 -school-9-5-24
DTSTART:20240905T180700Z
DTEND:20240905T190700Z
END:VEVENT
END:VCALENDAR
