BEGIN:VCALENDAR
VERSION:2.0
PRODID:SchoolNow
CALSCALE:GREGORIAN
BEGIN:VEVENT
UID:a558e2ec-3967-11ef-b57d-0a58a9feac02
DTSTAMP:20240703T181119Z
SUMMARY:Professional Development Half Day K-12 (10-4-24)
URL;VALUE=URI:https://www.liverpool.k12.ny.us/calendar/6207836/professional
 -development-half-day-k-12-10-4-24
DTSTART:20241004T181000Z
DTEND:20241004T191000Z
END:VEVENT
END:VCALENDAR
