BEGIN:VCALENDAR
VERSION:2.0
PRODID:SchoolNow
CALSCALE:GREGORIAN
BEGIN:VEVENT
UID:dfc9aa74-3967-11ef-a2cf-0affd0d50bef
DTSTAMP:20240703T181257Z
SUMMARY:Columbus Day Observance - School Closed (10-14-24)
URL;VALUE=URI:https://www.liverpool.k12.ny.us/calendar/6207854/columbus-day
 -observance-school-closed-10-14-24
DTSTART:20241014T181200Z
DTEND:20241014T191200Z
END:VEVENT
END:VCALENDAR
