BEGIN:VCALENDAR
VERSION:2.0
PRODID:SchoolNow
CALSCALE:GREGORIAN
BEGIN:VEVENT
UID:285202e6-3968-11ef-84a9-0a58a9feac02
DTSTAMP:20240703T181458Z
SUMMARY:Early Dismissal K-8 - Parent Teacher Conferences (10-25-24)
URL;VALUE=URI:https://www.liverpool.k12.ny.us/calendar/6207871/early-dismis
 sal-k-8-parent-teacher-conferences-10-25-24
DTSTART:20241025T181400Z
DTEND:20241025T191400Z
END:VEVENT
END:VCALENDAR
