BEGIN:VCALENDAR
VERSION:2.0
PRODID:SchoolNow
CALSCALE:GREGORIAN
BEGIN:VEVENT
UID:5f0dcc0c-3968-11ef-ba59-0a58a9feac02
DTSTAMP:20240703T181630Z
SUMMARY:Early Dismissal K-5 - Parent Teacher Conferences (10-31-24)
URL;VALUE=URI:https://www.liverpool.k12.ny.us/calendar/6207887/early-dismis
 sal-k-5-parent-teacher-conferences-10-31-24
DTSTART:20241031T181500Z
DTEND:20241031T191500Z
END:VEVENT
END:VCALENDAR
