BEGIN:VCALENDAR
VERSION:2.0
PRODID:SchoolNow
CALSCALE:GREGORIAN
BEGIN:VEVENT
UID:dcd1fea0-3969-11ef-a629-0a58a9feac02
DTSTAMP:20240703T182711Z
SUMMARY:Superintendent's Conference Day - Students Do Not Report (11-5-24)
URL;VALUE=URI:https://www.liverpool.k12.ny.us/calendar/6207945/superintende
 nts-conference-day-students-do-not-report-11-5-24
DTSTART:20241105T192600Z
DTEND:20241105T202600Z
END:VEVENT
END:VCALENDAR
