BEGIN:VCALENDAR
VERSION:2.0
PRODID:SchoolNow
CALSCALE:GREGORIAN
BEGIN:VEVENT
UID:16228e68-396a-11ef-accc-0a58a9feac02
DTSTAMP:20240703T182847Z
SUMMARY:Veterans Day Observance - School Closed (11-11-24)
URL;VALUE=URI:https://www.liverpool.k12.ny.us/calendar/6207970/veterans-day
 -observance-school-closed-11-11-24
DTSTART:20241111T192800Z
DTEND:20241111T202800Z
END:VEVENT
END:VCALENDAR
