BEGIN:VCALENDAR
VERSION:2.0
PRODID:SchoolNow
CALSCALE:GREGORIAN
BEGIN:VEVENT
UID:b8520542-396a-11ef-9260-0affe900a1ff
DTSTAMP:20240703T183319Z
SUMMARY:Thanksgiving Recess - School Closed (11-28-24)
URL;VALUE=URI:https://www.liverpool.k12.ny.us/calendar/6208005/thanksgiving
 -recess-school-closed-11-28-24
DTSTART:20241128T193200Z
DTEND:20241128T203200Z
END:VEVENT
END:VCALENDAR
