BEGIN:VCALENDAR
VERSION:2.0
PRODID:SchoolNow
CALSCALE:GREGORIAN
BEGIN:VEVENT
UID:4747ea3c-54c8-11ef-8b7e-0e2d80489dd7
DTSTAMP:20240807T142103Z
SUMMARY:Board of Education Meeting (9-16-24)
LOCATION:District Office
URL;VALUE=URI:https://www.liverpool.k12.ny.us/calendar/6366275/board-of-edu
 cation-meeting-9-16-24
DTSTART:20240916T220000Z
DTEND:20240917T020000Z
END:VEVENT
END:VCALENDAR
