BEGIN:VCALENDAR
VERSION:2.0
PRODID:SchoolNow
CALSCALE:GREGORIAN
BEGIN:VEVENT
UID:6c9addda-54c8-11ef-b83a-0a58a9feac02
DTSTAMP:20240807T142206Z
SUMMARY:Board of Education Meeting (10-7-24)
LOCATION:District Office
URL;VALUE=URI:https://www.liverpool.k12.ny.us/calendar/6366277/board-of-edu
 cation-meeting-10-7-24
DTSTART:20241007T220000Z
DTEND:20241008T020000Z
END:VEVENT
END:VCALENDAR
