BEGIN:VCALENDAR
VERSION:2.0
PRODID:SchoolNow
CALSCALE:GREGORIAN
BEGIN:VEVENT
UID:8e148baa-54c8-11ef-8dff-0a58a9feac02
DTSTAMP:20240807T142302Z
SUMMARY:Board of Education Meeting (10-30-24)
LOCATION:District Office
URL;VALUE=URI:https://www.liverpool.k12.ny.us/calendar/6366279/board-of-edu
 cation-meeting-10-30-24
DTSTART:20241030T220000Z
DTEND:20241031T020000Z
END:VEVENT
END:VCALENDAR
