BEGIN:VCALENDAR
VERSION:2.0
PRODID:SchoolNow
CALSCALE:GREGORIAN
BEGIN:VEVENT
UID:ae343552-54c8-11ef-8ff5-0a58a9feac02
DTSTAMP:20240807T142356Z
SUMMARY:Board of Education Meeting (11-12-24)
LOCATION:District Office
URL;VALUE=URI:https://www.liverpool.k12.ny.us/calendar/6366281/board-of-edu
 cation-meeting-11-12-24
DTSTART:20241112T230000Z
DTEND:20241113T030000Z
END:VEVENT
END:VCALENDAR
