BEGIN:VCALENDAR
VERSION:2.0
PRODID:SchoolNow
CALSCALE:GREGORIAN
BEGIN:VEVENT
UID:dbf60f88-54c8-11ef-86fb-0a58a9feac02
DTSTAMP:20240807T142513Z
SUMMARY:Board of Education Meeting (11-20-24)
LOCATION:District Office
URL;VALUE=URI:https://www.liverpool.k12.ny.us/calendar/6366283/board-of-edu
 cation-meeting-11-20-24
DTSTART:20241120T230000Z
DTEND:20241121T030000Z
END:VEVENT
END:VCALENDAR
