BEGIN:VCALENDAR
VERSION:2.0
PRODID:SchoolNow
CALSCALE:GREGORIAN
BEGIN:VEVENT
UID:611abee2-6eb5-11ef-bae9-0a58a9feac02
DTSTAMP:20240909T141116Z
SUMMARY:Middle School Report Cards Online (11-1-24)
URL;VALUE=URI:https://www.liverpool.k12.ny.us/calendar/6559999/middle-schoo
 l-report-cards-online-11-1-24
DTSTART:20241101T141000Z
DTEND:20241101T151000Z
END:VEVENT
END:VCALENDAR
