BEGIN:VCALENDAR
VERSION:2.0
PRODID:SchoolNow
CALSCALE:GREGORIAN
BEGIN:VEVENT
UID:bf4f03f6-6eb5-11ef-a598-0affd4204e29
DTSTAMP:20241029T144711Z
SUMMARY:Early Dismissal Drill
URL;VALUE=URI:https://www.liverpool.k12.ny.us/calendar/6560006/early-dismis
 sal-drill
DTSTART:20241126T151300Z
DTEND:20241126T161300Z
END:VEVENT
END:VCALENDAR
