BEGIN:VCALENDAR
VERSION:2.0
PRODID:SchoolNow
CALSCALE:GREGORIAN
BEGIN:VEVENT
UID:04ec30f4-6eb7-11ef-a4f7-0afff9044d79
DTSTAMP:20240909T142301Z
SUMMARY:High School Report Cards Online (1-31-25)
URL;VALUE=URI:https://www.liverpool.k12.ny.us/calendar/6560144/high-school-
 report-cards-online-1-31-25
DTSTART:20250131T152200Z
DTEND:20250131T162200Z
END:VEVENT
END:VCALENDAR
