BEGIN:VCALENDAR
VERSION:2.0
PRODID:SchoolNow
CALSCALE:GREGORIAN
BEGIN:VEVENT
UID:4d41ef14-739f-11ef-826f-0a58a9feac02
DTSTAMP:20240915T201550Z
SUMMARY:Audit Committee Meeting (9-26-24)
LOCATION:District Office Board Room
URL;VALUE=URI:https://www.liverpool.k12.ny.us/calendar/6611858/audit-commit
 tee-meeting-9-26-24
DTSTART:20240926T120000Z
DTEND:20240926T130000Z
END:VEVENT
END:VCALENDAR
