BEGIN:VCALENDAR
VERSION:2.0
PRODID:SchoolNow
CALSCALE:GREGORIAN
BEGIN:VEVENT
UID:019ab482-751c-11ef-aebe-0affca3c26b5
DTSTAMP:20240917T174101Z
SUMMARY:Policy Committee Meeting (9-25-24)
LOCATION:District Office Board Room
URL;VALUE=URI:https://www.liverpool.k12.ny.us/calendar/6625038/policy-commi
 ttee-meeting-9-25-24
DTSTART:20240925T200000Z
DTEND:20240925T213000Z
END:VEVENT
END:VCALENDAR
