BEGIN:VCALENDAR
VERSION:2.0
PRODID:SchoolNow
CALSCALE:GREGORIAN
BEGIN:VEVENT
UID:00b64dd0-8b0e-11ef-9cb7-0a58a9feac02
DTSTAMP:20241015T155612Z
SUMMARY:ENL Graduation & Community Engagement Event
LOCATION:Liverpool High School
URL;VALUE=URI:https://www.liverpool.k12.ny.us/calendar/6829757/enl-graduati
 on-community-engagement-event
DTSTART:20241023T220000Z
DTEND:20241024T000000Z
END:VEVENT
END:VCALENDAR
