BEGIN:VCALENDAR
VERSION:2.0
PRODID:SchoolNow
CALSCALE:GREGORIAN
BEGIN:VEVENT
UID:0f161712-907b-11ef-b534-024cbf038cf1
DTSTAMP:20241023T133222Z
SUMMARY:Policy Committee Meeting (10-28-24)
LOCATION:District Office
URL;VALUE=URI:https://www.liverpool.k12.ny.us/calendar/6876046/policy-commi
 ttee-meeting-10-23-24
DTSTART:20241028T200000Z
DTEND:20241028T213000Z
END:VEVENT
END:VCALENDAR
