BEGIN:VCALENDAR
VERSION:2.0
PRODID:SchoolNow
CALSCALE:GREGORIAN
BEGIN:VEVENT
UID:4ad0cecc-e00e-11ef-9f62-0e2ed8873acb
DTSTAMP:20250131T200226Z
SUMMARY:Kindergarten Registration (2-10-25)
URL;VALUE=URI:https://www.liverpool.k12.ny.us/calendar/7403905/kindergarten
 -registration-2-10-25
DTSTART:20250210T213000Z
DTEND:20250211T000000Z
END:VEVENT
END:VCALENDAR
