BEGIN:VCALENDAR
VERSION:2.0
PRODID:SchoolNow
CALSCALE:GREGORIAN
BEGIN:VEVENT
UID:b9733e0a-e563-11ef-9c08-0a58a9feac02
DTSTAMP:20250207T145634Z
SUMMARY:Superintendent Search Community Forum
LOCATION:District Office Room 26
URL;VALUE=URI:https://www.liverpool.k12.ny.us/calendar/7436106/superintende
 nt-search-community-forum
DTSTART:20250212T000000Z
DTEND:20250212T004500Z
END:VEVENT
END:VCALENDAR
