BEGIN:VCALENDAR
VERSION:2.0
PRODID:SchoolNow
CALSCALE:GREGORIAN
BEGIN:VEVENT
UID:11dd4326-0c21-11f1-9250-0affe7921747
DTSTAMP:20260217T165239Z
SUMMARY:Expert Perspectives on Digital Wellbeing
LOCATION:Liverpool Public Library
URL;VALUE=URI:https://www.liverpool.k12.ny.us/calendar/8857767/expert-persp
 ectives-on-digital-wellbeing
DTSTART:20260304T233000Z
DTEND:20260305T003000Z
END:VEVENT
END:VCALENDAR
