BEGIN:VCALENDAR
VERSION:2.0
PRODID:SchoolNow
CALSCALE:GREGORIAN
BEGIN:VEVENT
UID:9c9435ce-db31-11ee-8b7c-028d26b25385
DTSTAMP:20240305T204742Z
SUMMARY:Open Swim (3-7-24)
LOCATION:Liverpool High School Pool
URL;VALUE=URI:https://www.liverpool.k12.ny.us/departments/athletics/calenda
 r/5472002/open-swim-3-7-24
DTSTART:20240308T000000Z
DTEND:20240308T020000Z
END:VEVENT
END:VCALENDAR
