BEGIN:VCALENDAR
VERSION:2.0
PRODID:SchoolNow
CALSCALE:GREGORIAN
BEGIN:VEVENT
UID:b7ea0592-db31-11ee-b8e8-0a58a9feac02
DTSTAMP:20240305T204828Z
SUMMARY:Open Swim (3-9-24)
LOCATION:Liverpool High School Pool
URL;VALUE=URI:https://www.liverpool.k12.ny.us/departments/athletics/calenda
 r/5472003/open-swim-3-9-24
DTSTART:20240309T220000Z
DTEND:20240310T010000Z
END:VEVENT
END:VCALENDAR
