BEGIN:VCALENDAR
VERSION:2.0
PRODID:SchoolNow
CALSCALE:GREGORIAN
BEGIN:VEVENT
UID:d0d1e08e-db31-11ee-bc64-0a58a9feac02
DTSTAMP:20240305T204909Z
SUMMARY:Open Swim (3-14-24)
LOCATION:Liverpool High School Pool
URL;VALUE=URI:https://www.liverpool.k12.ny.us/departments/athletics/calenda
 r/5472004/open-swim-3-14-24
DTSTART:20240314T230000Z
DTEND:20240315T010000Z
END:VEVENT
END:VCALENDAR
