BEGIN:VCALENDAR
VERSION:2.0
PRODID:SchoolNow
CALSCALE:GREGORIAN
BEGIN:VEVENT
UID:e9f29f54-db31-11ee-bbdb-0affef0be587
DTSTAMP:20240305T204952Z
SUMMARY:Open Swim (3-16-24)
LOCATION:Liverpool High School Pool
URL;VALUE=URI:https://www.liverpool.k12.ny.us/departments/athletics/calenda
 r/5472005/open-swim-3-16-24
DTSTART:20240316T210000Z
DTEND:20240317T000000Z
END:VEVENT
END:VCALENDAR
