BEGIN:VCALENDAR
VERSION:2.0
PRODID:SchoolNow
CALSCALE:GREGORIAN
BEGIN:VEVENT
UID:1cdb2d78-db32-11ee-8fde-02d6b75e1c29
DTSTAMP:20240305T205117Z
SUMMARY:Open Swim (3-21-24)
LOCATION:Liverpool High School Pool
URL;VALUE=URI:https://www.liverpool.k12.ny.us/departments/athletics/calenda
 r/5472006/open-swim-3-21-24
DTSTART:20240321T230000Z
DTEND:20240322T010000Z
END:VEVENT
END:VCALENDAR
