BEGIN:VCALENDAR
VERSION:2.0
PRODID:SchoolNow
CALSCALE:GREGORIAN
BEGIN:VEVENT
UID:57862176-db32-11ee-bd97-0291db17a5e1
DTSTAMP:20240305T205255Z
SUMMARY:Open Swim (3-28-24)
LOCATION:Liverpool High School Pool
URL;VALUE=URI:https://www.liverpool.k12.ny.us/departments/athletics/calenda
 r/5472008/open-swim-3-28-24
DTSTART:20240328T230000Z
DTEND:20240329T010000Z
END:VEVENT
END:VCALENDAR
