BEGIN:VCALENDAR
VERSION:2.0
PRODID:SchoolNow
CALSCALE:GREGORIAN
BEGIN:VEVENT
UID:9d60799e-db32-11ee-82a9-0a58a9feac02
DTSTAMP:20240305T205453Z
SUMMARY:Open Swim (4-4-24)
LOCATION:Liverpool High School Pool
URL;VALUE=URI:https://www.liverpool.k12.ny.us/departments/athletics/calenda
 r/5472009/open-swim-4-4-24
DTSTART:20240404T230000Z
DTEND:20240405T010000Z
END:VEVENT
END:VCALENDAR
