BEGIN:VCALENDAR
VERSION:2.0
PRODID:SchoolNow
CALSCALE:GREGORIAN
BEGIN:VEVENT
UID:bc49e4d0-db32-11ee-b73b-02d6b75e1c29
DTSTAMP:20240305T205544Z
SUMMARY:Open Swim (4-6-24)
LOCATION:Liverpool High School Pool
URL;VALUE=URI:https://www.liverpool.k12.ny.us/departments/athletics/calenda
 r/5472010/open-swim-4-6-24
DTSTART:20240406T210000Z
DTEND:20240407T000000Z
END:VEVENT
END:VCALENDAR
