BEGIN:VCALENDAR
VERSION:2.0
PRODID:SchoolNow
CALSCALE:GREGORIAN
BEGIN:VEVENT
UID:d834b06c-db32-11ee-9fa4-0affd95e3bc7
DTSTAMP:20240305T205752Z
SUMMARY:Open Swim (4-11-24)
LOCATION:Liverpool High School Pool
URL;VALUE=URI:https://www.liverpool.k12.ny.us/departments/athletics/calenda
 r/5472011/open-swim-4-11-24
DTSTART:20240411T230000Z
DTEND:20240412T010000Z
END:VEVENT
END:VCALENDAR
