BEGIN:VCALENDAR
VERSION:2.0
PRODID:SchoolNow
CALSCALE:GREGORIAN
BEGIN:VEVENT
UID:f70fd9da-db32-11ee-8d9a-0a58a9feac02
DTSTAMP:20240305T205723Z
SUMMARY:Open Swim (4-13-24)
LOCATION:Liverpool High School Pool
URL;VALUE=URI:https://www.liverpool.k12.ny.us/departments/athletics/calenda
 r/5472012/open-swim-4-13-24
DTSTART:20240413T210000Z
DTEND:20240414T000000Z
END:VEVENT
END:VCALENDAR
