BEGIN:VCALENDAR
VERSION:2.0
PRODID:SchoolNow
CALSCALE:GREGORIAN
BEGIN:VEVENT
UID:26459244-db33-11ee-96cf-0a58a9feac02
DTSTAMP:20240305T205842Z
SUMMARY:Open Swim (4-18-24)
LOCATION:Liverpool High School Pool
URL;VALUE=URI:https://www.liverpool.k12.ny.us/departments/athletics/calenda
 r/5472013/open-swim-4-18-24
DTSTART:20240418T230000Z
DTEND:20240419T010000Z
END:VEVENT
END:VCALENDAR
