BEGIN:VCALENDAR
VERSION:2.0
PRODID:SchoolNow
CALSCALE:GREGORIAN
BEGIN:VEVENT
UID:437c9fc4-db33-11ee-a3d7-0a58a9feac02
DTSTAMP:20240305T205931Z
SUMMARY:Open Swim (4-22-24)
LOCATION:Liverpool High School Pool
URL;VALUE=URI:https://www.liverpool.k12.ny.us/departments/athletics/calenda
 r/5472014/open-swim-4-22-24
DTSTART:20240422T140000Z
DTEND:20240422T160000Z
END:VEVENT
END:VCALENDAR
