BEGIN:VCALENDAR
VERSION:2.0
PRODID:SchoolNow
CALSCALE:GREGORIAN
BEGIN:VEVENT
UID:5edcbdc6-db33-11ee-869d-0a58a9feac02
DTSTAMP:20240305T210017Z
SUMMARY:Open Swim (4-23-24)
LOCATION:Liverpool High School Pool
URL;VALUE=URI:https://www.liverpool.k12.ny.us/departments/athletics/calenda
 r/5472015/open-swim-4-23-24
DTSTART:20240423T140000Z
DTEND:20240423T160000Z
END:VEVENT
END:VCALENDAR
