BEGIN:VCALENDAR
VERSION:2.0
PRODID:SchoolNow
CALSCALE:GREGORIAN
BEGIN:VEVENT
UID:761e5ea4-db33-11ee-bf3d-0a58a9feac02
DTSTAMP:20240305T210056Z
SUMMARY:Open Swim (4-24-24)
LOCATION:Liverpool High School Pool
URL;VALUE=URI:https://www.liverpool.k12.ny.us/departments/athletics/calenda
 r/5472016/open-swim-4-24-24
DTSTART:20240424T140000Z
DTEND:20240424T160000Z
END:VEVENT
END:VCALENDAR
