BEGIN:VCALENDAR
VERSION:2.0
PRODID:SchoolNow
CALSCALE:GREGORIAN
BEGIN:VEVENT
UID:8f6dbe0e-db33-11ee-b445-0a58a9feac02
DTSTAMP:20240305T210139Z
SUMMARY:Open Swim (4-25-24)
LOCATION:Liverpool High School Pool
URL;VALUE=URI:https://www.liverpool.k12.ny.us/departments/athletics/calenda
 r/5472017/open-swim-4-25-24
DTSTART:20240425T140000Z
DTEND:20240425T160000Z
END:VEVENT
END:VCALENDAR
