BEGIN:VCALENDAR
VERSION:2.0
PRODID:SchoolNow
CALSCALE:GREGORIAN
BEGIN:VEVENT
UID:63e622fc-eb9c-11ee-b20e-0e48fbc000fd
DTSTAMP:20240326T181222Z
SUMMARY:Open Swim (5-2-24)
URL;VALUE=URI:https://www.liverpool.k12.ny.us/departments/athletics/calenda
 r/5637829/open-swim-5-2-24
DTSTART:20240502T230000Z
DTEND:20240503T010000Z
END:VEVENT
END:VCALENDAR
