BEGIN:VCALENDAR
VERSION:2.0
PRODID:SchoolNow
CALSCALE:GREGORIAN
BEGIN:VEVENT
UID:79e63ac4-eb9c-11ee-8ca4-0a58a9feac02
DTSTAMP:20240326T181258Z
SUMMARY:Open Swim (5-4-24)
URL;VALUE=URI:https://www.liverpool.k12.ny.us/departments/athletics/calenda
 r/5637830/open-swim-5-4-24
DTSTART:20240504T210000Z
DTEND:20240505T000000Z
END:VEVENT
END:VCALENDAR
