BEGIN:VCALENDAR
VERSION:2.0
PRODID:SchoolNow
CALSCALE:GREGORIAN
BEGIN:VEVENT
UID:8d00027a-eb9c-11ee-afee-0a58a9feac02
DTSTAMP:20240326T181331Z
SUMMARY:Open Swim (5-9-24)
URL;VALUE=URI:https://www.liverpool.k12.ny.us/departments/athletics/calenda
 r/5637831/open-swim-5-9-24
DTSTART:20240509T230000Z
DTEND:20240510T010000Z
END:VEVENT
END:VCALENDAR
