BEGIN:VCALENDAR
VERSION:2.0
PRODID:SchoolNow
CALSCALE:GREGORIAN
BEGIN:VEVENT
UID:a2697d94-eb9c-11ee-8b3d-0ebe42c1825b
DTSTAMP:20240326T181406Z
SUMMARY:Open Swim (5-11-24)
URL;VALUE=URI:https://www.liverpool.k12.ny.us/departments/athletics/calenda
 r/5637832/open-swim-5-11-24
DTSTART:20240511T210000Z
DTEND:20240512T000000Z
END:VEVENT
END:VCALENDAR
