BEGIN:VCALENDAR
VERSION:2.0
PRODID:SchoolNow
CALSCALE:GREGORIAN
BEGIN:VEVENT
UID:baf14f7c-eb9c-11ee-b6ac-0affe3fd88c7
DTSTAMP:20240326T181447Z
SUMMARY:Open Swim (5-16-24)
URL;VALUE=URI:https://www.liverpool.k12.ny.us/departments/athletics/calenda
 r/5637833/open-swim-5-16-24
DTSTART:20240516T230000Z
DTEND:20240517T010000Z
END:VEVENT
END:VCALENDAR
