BEGIN:VCALENDAR
VERSION:2.0
PRODID:SchoolNow
CALSCALE:GREGORIAN
BEGIN:VEVENT
UID:f02a4964-eb9c-11ee-b174-0a58a9feac02
DTSTAMP:20240326T181617Z
SUMMARY:Open Swim (5-18-24)
URL;VALUE=URI:https://www.liverpool.k12.ny.us/departments/athletics/calenda
 r/5637843/open-swim-5-18-24
DTSTART:20240518T210000Z
DTEND:20240519T000000Z
END:VEVENT
END:VCALENDAR
